BEGIN:VCALENDAR
VERSION:2.0
PRODID:-//ridgemoorswimclub.com - ECPv6.15.20//NONSGML v1.0//EN
CALSCALE:GREGORIAN
METHOD:PUBLISH
X-WR-CALNAME:ridgemoorswimclub.com
X-ORIGINAL-URL:https://ridgemoorswimclub.com
X-WR-CALDESC:Events for ridgemoorswimclub.com
REFRESH-INTERVAL;VALUE=DURATION:PT1H
X-Robots-Tag:noindex
X-PUBLISHED-TTL:PT1H
BEGIN:VTIMEZONE
TZID:America/Detroit
BEGIN:DAYLIGHT
TZOFFSETFROM:-0500
TZOFFSETTO:-0400
TZNAME:EDT
DTSTART:20230312T070000
END:DAYLIGHT
BEGIN:STANDARD
TZOFFSETFROM:-0400
TZOFFSETTO:-0500
TZNAME:EST
DTSTART:20231105T060000
END:STANDARD
BEGIN:DAYLIGHT
TZOFFSETFROM:-0500
TZOFFSETTO:-0400
TZNAME:EDT
DTSTART:20240310T070000
END:DAYLIGHT
BEGIN:STANDARD
TZOFFSETFROM:-0400
TZOFFSETTO:-0500
TZNAME:EST
DTSTART:20241103T060000
END:STANDARD
BEGIN:DAYLIGHT
TZOFFSETFROM:-0500
TZOFFSETTO:-0400
TZNAME:EDT
DTSTART:20250309T070000
END:DAYLIGHT
BEGIN:STANDARD
TZOFFSETFROM:-0400
TZOFFSETTO:-0500
TZNAME:EST
DTSTART:20251102T060000
END:STANDARD
END:VTIMEZONE
BEGIN:VEVENT
DTSTART;TZID=America/Detroit:20240702T100000
DTEND;TZID=America/Detroit:20240702T140000
DTSTAMP:20260421T040934
CREATED:20240512T173948Z
LAST-MODIFIED:20240512T174405Z
UID:1999-1719914400-1719928800@ridgemoorswimclub.com
SUMMARY:Forest Hills @ Ridgemoor
DESCRIPTION:Warm-ups start at 9am
URL:https://ridgemoorswimclub.com/event/forest-hills-ridgemoor/
LOCATION:Ridgemoor Swim Club\, 2435 Inverness Rd SE\, Grand Rapids\, MI\, 49546\, United States
CATEGORIES:Swim Team
END:VEVENT
BEGIN:VEVENT
DTSTART;TZID=America/Detroit:20240710T090000
DTEND;TZID=America/Detroit:20240710T150000
DTSTAMP:20260421T040934
CREATED:20240512T174113Z
LAST-MODIFIED:20240604T144505Z
UID:2001-1720602000-1720623600@ridgemoorswimclub.com
SUMMARY:Prelims @ Forest Hills
DESCRIPTION:Little kids in the morning\, big kids in the afternoon. **more info to come
URL:https://ridgemoorswimclub.com/event/prelims-forest-hills/
LOCATION:Forest Hills Pool Association\, 847 Greenbrier Dr SE\, Grand Rapids\, MI\, 49546\, United States
CATEGORIES:Swim Team
END:VEVENT
BEGIN:VEVENT
DTSTART;TZID=America/Detroit:20240712T090000
DTEND;TZID=America/Detroit:20240712T130000
DTSTAMP:20260421T040934
CREATED:20240512T174229Z
LAST-MODIFIED:20240604T150048Z
UID:2003-1720774800-1720789200@ridgemoorswimclub.com
SUMMARY:Finals @ Forest Hills
DESCRIPTION:Warm-ups start at 9am. Go Ridgemoor!
URL:https://ridgemoorswimclub.com/event/finals-forest-hills/
LOCATION:Forest Hills Pool Association\, 847 Greenbrier Dr SE\, Grand Rapids\, MI\, 49546\, United States
CATEGORIES:Swim Team
END:VEVENT
END:VCALENDAR