BEGIN:VCALENDAR
VERSION:2.0
PRODID:-//ridgemoorswimclub.com - ECPv6.15.20//NONSGML v1.0//EN
CALSCALE:GREGORIAN
METHOD:PUBLISH
X-ORIGINAL-URL:https://ridgemoorswimclub.com
X-WR-CALDESC:Events for ridgemoorswimclub.com
REFRESH-INTERVAL;VALUE=DURATION:PT1H
X-Robots-Tag:noindex
X-PUBLISHED-TTL:PT1H
BEGIN:VTIMEZONE
TZID:America/Detroit
BEGIN:DAYLIGHT
TZOFFSETFROM:-0500
TZOFFSETTO:-0400
TZNAME:EDT
DTSTART:20230312T070000
END:DAYLIGHT
BEGIN:STANDARD
TZOFFSETFROM:-0400
TZOFFSETTO:-0500
TZNAME:EST
DTSTART:20231105T060000
END:STANDARD
BEGIN:DAYLIGHT
TZOFFSETFROM:-0500
TZOFFSETTO:-0400
TZNAME:EDT
DTSTART:20240310T070000
END:DAYLIGHT
BEGIN:STANDARD
TZOFFSETFROM:-0400
TZOFFSETTO:-0500
TZNAME:EST
DTSTART:20241103T060000
END:STANDARD
BEGIN:DAYLIGHT
TZOFFSETFROM:-0500
TZOFFSETTO:-0400
TZNAME:EDT
DTSTART:20250309T070000
END:DAYLIGHT
BEGIN:STANDARD
TZOFFSETFROM:-0400
TZOFFSETTO:-0500
TZNAME:EST
DTSTART:20251102T060000
END:STANDARD
END:VTIMEZONE
BEGIN:VEVENT
DTSTART;TZID=America/Detroit:20240808T204500
DTEND;TZID=America/Detroit:20240808T223000
DTSTAMP:20260421T040948
CREATED:20240730T174819Z
LAST-MODIFIED:20240730T174819Z
UID:2397-1723149900-1723156200@ridgemoorswimclub.com
SUMMARY:Movie Night
DESCRIPTION:Join us for our annual movie night at the pool! \nThe movie choices this year are Moana\, Rio\, and Finding Nemo. Vote for your favorite at the concession stand! \nCost is $5 for members and $10 for non-members and includes a bag of popcorn \n 
URL:https://ridgemoorswimclub.com/event/movie-night/
LOCATION:Ridgemoor Swim Club\, 2435 Inverness Rd SE\, Grand Rapids\, MI\, 49546\, United States
CATEGORIES:Ridgemoor
END:VEVENT
END:VCALENDAR